BEGIN:VCALENDAR
VERSION:2.0
PRODID:-//Secretaría de Turismo de Necochea - ECPv6.15.17.1//NONSGML v1.0//EN
CALSCALE:GREGORIAN
METHOD:PUBLISH
X-WR-CALNAME:Secretaría de Turismo de Necochea
X-ORIGINAL-URL:https://necochea.tur.ar
X-WR-CALDESC:Eventos para Secretaría de Turismo de Necochea
REFRESH-INTERVAL;VALUE=DURATION:PT1H
X-Robots-Tag:noindex
X-PUBLISHED-TTL:PT1H
BEGIN:VTIMEZONE
TZID:America/Argentina/Buenos_Aires
BEGIN:STANDARD
TZOFFSETFROM:-0300
TZOFFSETTO:-0300
TZNAME:-03
DTSTART:20250101T000000
END:STANDARD
END:VTIMEZONE
BEGIN:VEVENT
DTSTART;TZID=America/Argentina/Buenos_Aires:20260421T173000
DTEND;TZID=America/Argentina/Buenos_Aires:20260422T173000
DTSTAMP:20260422T071925
CREATED:20260420T113451Z
LAST-MODIFIED:20260420T113451Z
UID:45060-1776792600-1776879000@necochea.tur.ar
SUMMARY:PROGRAMACIÓN CINE OCEAN
DESCRIPTION:🎬 Cartelera Cines Ocean – Necochea\n📅 Martes 21 y miércoles 22 de abril\n📍 Calle 83 Nº 350 | Más info: 2262-330340 \n🎬 Funciones especiales:\n🇦🇷 Argentina sangra por las barrancas del Río Paraná\n🎟️ última función – Última oportunidad para ver este impactante documental. \n🎤 Preestreno exclusivo – Miércoles:\n✨ Michael – La esperada película biográfica de Michael Jackson.\n📅 Viví antes que nadie la historia del Rey del Pop en pantalla grande. \n🎞️ En cartelera:\n🍄 Super Mario Galaxy\n🇦🇷🎭 Risa y la cabina del viento\n🎭 El Drama\n📞😱 911: Llamada infernal\n🇪🇸💥 Torrente Presidente\n🧟‍♂️ La posesión de la momia \n🍿 Dos días con funciones especiales\, estrenos exclusivos y grandes películas.\n🎥 ¡No te lo pierdas en Cines Ocean!
URL:https://necochea.tur.ar/evento/programacion-cine-ocean-2/
LOCATION:Cine Ocean\, Calle 83 Nº 350\, Necochea\, Buenos Aires\, Argentina
ATTACH;FMTTYPE=image/jpeg:https://necochea.tur.ar/wp-content/uploads/2026/04/ocean212204.jpg
END:VEVENT
END:VCALENDAR